BEGIN:VCALENDAR
VERSION:2.0
PRODID:-//PYVOBJECT//NONSGML Version 1//EN
BEGIN:VEVENT
UID:29219:6176
DTSTART:20180611T000000
DTEND:20180627T000000
DESCRIPTION:
DTSTAMP:20260420T014006Z
SUMMARY:Betriebsurlaub vom 11. - 27. Juni 2018
END:VEVENT
END:VCALENDAR
